BEGIN:VCALENDAR
VERSION:2.0
PRODID:-//The American Chestnut Foundation - ECPv6.15.11//NONSGML v1.0//EN
CALSCALE:GREGORIAN
METHOD:PUBLISH
X-ORIGINAL-URL:https://tacf.org
X-WR-CALDESC:Events for The American Chestnut Foundation
REFRESH-INTERVAL;VALUE=DURATION:PT1H
X-Robots-Tag:noindex
X-PUBLISHED-TTL:PT1H
BEGIN:VTIMEZONE
TZID:America/New_York
BEGIN:DAYLIGHT
TZOFFSETFROM:-0500
TZOFFSETTO:-0400
TZNAME:EDT
DTSTART:20230312T070000
END:DAYLIGHT
BEGIN:STANDARD
TZOFFSETFROM:-0400
TZOFFSETTO:-0500
TZNAME:EST
DTSTART:20231105T060000
END:STANDARD
BEGIN:DAYLIGHT
TZOFFSETFROM:-0500
TZOFFSETTO:-0400
TZNAME:EDT
DTSTART:20240310T070000
END:DAYLIGHT
BEGIN:STANDARD
TZOFFSETFROM:-0400
TZOFFSETTO:-0500
TZNAME:EST
DTSTART:20241103T060000
END:STANDARD
BEGIN:DAYLIGHT
TZOFFSETFROM:-0500
TZOFFSETTO:-0400
TZNAME:EDT
DTSTART:20250309T070000
END:DAYLIGHT
BEGIN:STANDARD
TZOFFSETFROM:-0400
TZOFFSETTO:-0500
TZNAME:EST
DTSTART:20251102T060000
END:STANDARD
END:VTIMEZONE
BEGIN:VEVENT
DTSTART;TZID=America/New_York:20240720T093000
DTEND;TZID=America/New_York:20240720T140000
DTSTAMP:20260422T063104
CREATED:20240615T231700Z
LAST-MODIFIED:20240719T235828Z
UID:10001985-1721467800-1721484000@tacf.org
SUMMARY:MA/RI-TACF Summer 2024 Quarterly Meeting
DESCRIPTION:All are welcome! \nJuly 20\, 2024 9:30am-2pm\nBemis Hall\, 15 Bedford Rd\, Lincoln\, MA 01773 (HYBRID) \nJoin Zoom Meeting – https://us02web.zoom.us/j/89694091173 \nMeeting ID: 896 9409 1173   Passcode: 1904\nFind your local number:  https://us02web.zoom.us/u/kbXpe58Ttg \nPlease send agenda items to Kathy.
URL:https://tacf.org/event/ma-ri-tacf-summer-2024-quarterly-meeting/
LOCATION:Bemis Hall\, 15 Bedford Rd\, Lincoln\, MA\, 01773\, United States
CATEGORIES:Massachusetts / Rhode Island,The American Chestnut Foundation
ORGANIZER;CN="Kathy Desjardin":MAILTO:marichapter@tacf.org
END:VEVENT
END:VCALENDAR