BEGIN:VCALENDAR
VERSION:2.0
PRODID:-//The American Chestnut Foundation - ECPv6.15.11//NONSGML v1.0//EN
CALSCALE:GREGORIAN
METHOD:PUBLISH
X-ORIGINAL-URL:https://tacf.org
X-WR-CALDESC:Events for The American Chestnut Foundation
REFRESH-INTERVAL;VALUE=DURATION:PT1H
X-Robots-Tag:noindex
X-PUBLISHED-TTL:PT1H
BEGIN:VTIMEZONE
TZID:America/New_York
BEGIN:DAYLIGHT
TZOFFSETFROM:-0500
TZOFFSETTO:-0400
TZNAME:EDT
DTSTART:20250309T070000
END:DAYLIGHT
BEGIN:STANDARD
TZOFFSETFROM:-0400
TZOFFSETTO:-0500
TZNAME:EST
DTSTART:20251102T060000
END:STANDARD
BEGIN:DAYLIGHT
TZOFFSETFROM:-0500
TZOFFSETTO:-0400
TZNAME:EDT
DTSTART:20260308T070000
END:DAYLIGHT
BEGIN:STANDARD
TZOFFSETFROM:-0400
TZOFFSETTO:-0500
TZNAME:EST
DTSTART:20261101T060000
END:STANDARD
BEGIN:DAYLIGHT
TZOFFSETFROM:-0500
TZOFFSETTO:-0400
TZNAME:EDT
DTSTART:20270314T070000
END:DAYLIGHT
BEGIN:STANDARD
TZOFFSETFROM:-0400
TZOFFSETTO:-0500
TZNAME:EST
DTSTART:20271107T060000
END:STANDARD
END:VTIMEZONE
BEGIN:VEVENT
DTSTART;TZID=America/New_York:20260411T110000
DTEND;TZID=America/New_York:20260411T150000
DTSTAMP:20260421T162243
CREATED:20260327T174156Z
LAST-MODIFIED:20260327T174156Z
UID:10002176-1775905200-1775919600@tacf.org
SUMMARY:CT - Chestnut educational program and history walk at Case Mountain
DESCRIPTION:On Saturday\, April 11\, volunteers from the CT Chapter of the American Chestnut Foundation will present an illustrated program at the cabin\, describing the importance and scope of the Chestnut\, the blight\, the wood itself\, and tree restoration efforts. Visitors can either go directly to the cabin on their own (any time from 11:00 a.m. on into mid afternoon)\, or join the History Hike of Highland Park starting at 1:00 p.m. at the Case Parklet\, GPS 670 Spring Street\, Manchester. \nThe hike will visit the areas of the former water-bottling plant\, paper mills\, Case family mansions\, and\, of course\, the 1917 cabin — a fine example of a summer lodge built from American Chestnut. Bring your friends and celebrate preservation of this unique and historic cabin. Forward this email to spread the word. Botanists welcome! \nOn your own\, walk in\, about a half mile\, from either the Spring Street/Glen Road/waterfall area OR from the “Case Mt. Case Pond Lot” off Birch Mountain Road. \nMap to get to Case Mountain Cabin\, Manchester \n 
URL:https://tacf.org/event/ct-chestnut-educational-program-and-history-walk-at-case-mountain/
LOCATION:Case Mountain Cabin\, Manchester
CATEGORIES:Connecticut,The American Chestnut Foundation
ATTACH;FMTTYPE=image/jpeg:https://tacf.org/wp-content/uploads/2021/05/Case-Mtn-Cabin.jpg
ORGANIZER;CN="CT-TACF":MAILTO:tacf.ctchapter@gmail.com
END:VEVENT
END:VCALENDAR