BEGIN:VCALENDAR
VERSION:2.0
PRODID:-//The American Chestnut Foundation - ECPv6.15.11//NONSGML v1.0//EN
CALSCALE:GREGORIAN
METHOD:PUBLISH
X-ORIGINAL-URL:https://tacf.org
X-WR-CALDESC:Events for The American Chestnut Foundation
REFRESH-INTERVAL;VALUE=DURATION:PT1H
X-Robots-Tag:noindex
X-PUBLISHED-TTL:PT1H
BEGIN:VTIMEZONE
TZID:America/New_York
BEGIN:DAYLIGHT
TZOFFSETFROM:-0500
TZOFFSETTO:-0400
TZNAME:EDT
DTSTART:20250309T070000
END:DAYLIGHT
BEGIN:STANDARD
TZOFFSETFROM:-0400
TZOFFSETTO:-0500
TZNAME:EST
DTSTART:20251102T060000
END:STANDARD
BEGIN:DAYLIGHT
TZOFFSETFROM:-0500
TZOFFSETTO:-0400
TZNAME:EDT
DTSTART:20260308T070000
END:DAYLIGHT
BEGIN:STANDARD
TZOFFSETFROM:-0400
TZOFFSETTO:-0500
TZNAME:EST
DTSTART:20261101T060000
END:STANDARD
BEGIN:DAYLIGHT
TZOFFSETFROM:-0500
TZOFFSETTO:-0400
TZNAME:EDT
DTSTART:20270314T070000
END:DAYLIGHT
BEGIN:STANDARD
TZOFFSETFROM:-0400
TZOFFSETTO:-0500
TZNAME:EST
DTSTART:20271107T060000
END:STANDARD
END:VTIMEZONE
BEGIN:VEVENT
DTSTART;TZID=America/New_York:20260429T090000
DTEND;TZID=America/New_York:20260429T160000
DTSTAMP:20260421T144625
CREATED:20260417T163309Z
LAST-MODIFIED:20260417T164422Z
UID:10002180-1777453200-1777478400@tacf.org
SUMMARY:Planting in Lovingston\, VA!
DESCRIPTION:We are planning to plant hybrid chestnut trees on April 29 from 9am-4pm (or whenever we wrap up). These are trees from TACF’s breeding program that will be used for continual research on disease resistance. We have ~120 trees to plant and will be applying short tree shelters and canvas for herbivory and competition. Come prepared to work in field or forest conditions; wear appropriate clothing and solid closed-toe shoes. Bring gloves\, a hat\, sunscreen\, bug spray\, water\, lunch\, and a shovel if you have one! Please RSVP using this link\, so we know to expect you: https://theamericanchestnutfoundation.volunteerlocal.com/volunteer/?id=90482
URL:https://tacf.org/event/planting-in-lovingston-va/
LOCATION:Fortune’s Cove Preserve\, Fortune's Cove Lane\, Lovingston\, VA\, United States
CATEGORIES:The American Chestnut Foundation
ATTACH;FMTTYPE=image/jpeg:https://tacf.org/wp-content/uploads/2021/05/Young-green-burs-at-Meadowview-Research-Farms-900.jpg
ORGANIZER;CN="Cassie Stark":MAILTO:cassie.stark@tacf.org
END:VEVENT
END:VCALENDAR