BEGIN:VCALENDAR
VERSION:2.0
PRODID:-//The American Chestnut Foundation - ECPv6.15.11//NONSGML v1.0//EN
CALSCALE:GREGORIAN
METHOD:PUBLISH
X-WR-CALNAME:The American Chestnut Foundation
X-ORIGINAL-URL:https://tacf.org
X-WR-CALDESC:Events for The American Chestnut Foundation
REFRESH-INTERVAL;VALUE=DURATION:PT1H
X-Robots-Tag:noindex
X-PUBLISHED-TTL:PT1H
BEGIN:VTIMEZONE
TZID:America/New_York
BEGIN:DAYLIGHT
TZOFFSETFROM:-0500
TZOFFSETTO:-0400
TZNAME:EDT
DTSTART:20220313T070000
END:DAYLIGHT
BEGIN:STANDARD
TZOFFSETFROM:-0400
TZOFFSETTO:-0500
TZNAME:EST
DTSTART:20221106T060000
END:STANDARD
BEGIN:DAYLIGHT
TZOFFSETFROM:-0500
TZOFFSETTO:-0400
TZNAME:EDT
DTSTART:20230312T070000
END:DAYLIGHT
BEGIN:STANDARD
TZOFFSETFROM:-0400
TZOFFSETTO:-0500
TZNAME:EST
DTSTART:20231105T060000
END:STANDARD
BEGIN:DAYLIGHT
TZOFFSETFROM:-0500
TZOFFSETTO:-0400
TZNAME:EDT
DTSTART:20240310T070000
END:DAYLIGHT
BEGIN:STANDARD
TZOFFSETFROM:-0400
TZOFFSETTO:-0500
TZNAME:EST
DTSTART:20241103T060000
END:STANDARD
BEGIN:DAYLIGHT
TZOFFSETFROM:-0500
TZOFFSETTO:-0400
TZNAME:EDT
DTSTART:20250309T070000
END:DAYLIGHT
BEGIN:STANDARD
TZOFFSETFROM:-0400
TZOFFSETTO:-0500
TZNAME:EST
DTSTART:20251102T060000
END:STANDARD
END:VTIMEZONE
BEGIN:VEVENT
DTSTART;TZID=America/New_York:20240928T100000
DTEND;TZID=America/New_York:20240928T143000
DTSTAMP:20260421T112206
CREATED:20240814T143201Z
LAST-MODIFIED:20240814T145508Z
UID:10001999-1727517600-1727533800@tacf.org
SUMMARY:Maryland Chapter Fall Meeting
DESCRIPTION:The MD-TACF fall meeting will take place from 10-2:30 pm at Fox Haven Farms. We will have two guest speakers and tour a chestnut orchard from our breeding program. Hope to see you there!
URL:https://tacf.org/event/maryland-chapter-fall-meeting/
LOCATION:Fox Haven Farm\, 3630 Poffenberger Rd\, Jefferson\, MD\, 21755\, United States
CATEGORIES:Maryland,The American Chestnut Foundation
END:VEVENT
BEGIN:VEVENT
DTSTART;TZID=America/New_York:20231028T103000
DTEND;TZID=America/New_York:20231028T150000
DTSTAMP:20260421T112206
CREATED:20230522T191131Z
LAST-MODIFIED:20230913T140343Z
UID:10001833-1698489000-1698505200@tacf.org
SUMMARY:MD 40th Anniversary Celebration
DESCRIPTION:Maryland Chapter Fall meeting – October 28th .   The event will take place at the Fox Haven Farm located at 3630 Poffenberger Rd\, Jefferson\, MD 21755.  The meeting will start at 10:30 AM and end around 3PM.  Tours of the chestnut orchard will be given\, and the 40th year anniversary of The American Chestnut Foundation celebration will include a screening of TACF’s new documentary film CLEAR DAY THUNDER: Rescuing the American Chestnut.  All interested people are invited.
URL:https://tacf.org/event/md-40th-anniversary-celebration/
LOCATION:Fox Haven Farm\, 3630 Poffenberger Rd\, Jefferson\, MD\, 21755\, United States
CATEGORIES:Maryland,The American Chestnut Foundation
ATTACH;FMTTYPE=image/png:https://tacf.org/wp-content/uploads/2023/04/TACF_40thAnniversary_Logo_480.png
END:VEVENT
END:VCALENDAR