BEGIN:VCALENDAR
VERSION:2.0
PRODID:-//The American Chestnut Foundation - ECPv6.15.11//NONSGML v1.0//EN
CALSCALE:GREGORIAN
METHOD:PUBLISH
X-ORIGINAL-URL:https://tacf.org
X-WR-CALDESC:Events for The American Chestnut Foundation
REFRESH-INTERVAL;VALUE=DURATION:PT1H
X-Robots-Tag:noindex
X-PUBLISHED-TTL:PT1H
BEGIN:VTIMEZONE
TZID:America/New_York
BEGIN:DAYLIGHT
TZOFFSETFROM:-0500
TZOFFSETTO:-0400
TZNAME:EDT
DTSTART:20230312T070000
END:DAYLIGHT
BEGIN:STANDARD
TZOFFSETFROM:-0400
TZOFFSETTO:-0500
TZNAME:EST
DTSTART:20231105T060000
END:STANDARD
BEGIN:DAYLIGHT
TZOFFSETFROM:-0500
TZOFFSETTO:-0400
TZNAME:EDT
DTSTART:20240310T070000
END:DAYLIGHT
BEGIN:STANDARD
TZOFFSETFROM:-0400
TZOFFSETTO:-0500
TZNAME:EST
DTSTART:20241103T060000
END:STANDARD
BEGIN:DAYLIGHT
TZOFFSETFROM:-0500
TZOFFSETTO:-0400
TZNAME:EDT
DTSTART:20250309T070000
END:DAYLIGHT
BEGIN:STANDARD
TZOFFSETFROM:-0400
TZOFFSETTO:-0500
TZNAME:EST
DTSTART:20251102T060000
END:STANDARD
END:VTIMEZONE
BEGIN:VEVENT
DTSTART;TZID=America/New_York:20240324T160000
DTEND;TZID=America/New_York:20240324T170000
DTSTAMP:20260422T144453
CREATED:20240126T213328Z
LAST-MODIFIED:20240130T193605Z
UID:10001920-1711296000-1711299600@tacf.org
SUMMARY:RI - Documentary Screening - Clear Day Thunder
DESCRIPTION:As part of its “Voices of the Land” series\, Westerly Land Trust in partnership with The United Theatre hosts a screening of Clear DayThunder: Rescuing the American Chestnut. At the turn of the 20th century\, a deadly blight accidentally imported into the U.S. from Asia devastated the American Chestnut. Within a span of only two generations\, the tree was nearly extinct. This new documentary film tells the story of passionate citizen scientists and researchers working to restore this ecologically and economically important species\, during this pivotal moment.  \nTickets are free but you must click the “tickets” button on the United Theatre event page to register. \n\n3/24/2024\nWesterly\, RI\nUnited Theatre\nChestnut Documentary – Clear DayThunder Screening – Rescuing The American Chestnut\nFor more information\, visit the event page at the United Theatre website\n\n			\n				Tickets & Info
URL:https://tacf.org/event/ri-documentary-screening-clear-day-thunder/
LOCATION:United Theatre\, 5 Canal St.\, Westerly\, RI\, 02891\, United States
CATEGORIES:Massachusetts / Rhode Island,The American Chestnut Foundation
GEO:41.3799341;-71.829384
X-APPLE-STRUCTURED-LOCATION;VALUE=URI;X-ADDRESS=United Theatre 5 Canal St. Westerly RI 02891 United States;X-APPLE-RADIUS=500;X-TITLE=5 Canal St.:geo:-71.829384,41.3799341
END:VEVENT
END:VCALENDAR